BEGIN:VCALENDAR
VERSION:2.0
PRODID:-//Art Lab Fort Collins - ECPv6.9.1//NONSGML v1.0//EN
CALSCALE:GREGORIAN
METHOD:PUBLISH
X-ORIGINAL-URL:https://www.artlabfortcollins.org
X-WR-CALDESC:Events for Art Lab Fort Collins
REFRESH-INTERVAL;VALUE=DURATION:PT1H
X-Robots-Tag:noindex
X-PUBLISHED-TTL:PT1H
BEGIN:VTIMEZONE
TZID:America/Denver
BEGIN:DAYLIGHT
TZOFFSETFROM:-0700
TZOFFSETTO:-0600
TZNAME:MDT
DTSTART:20250309T090000
END:DAYLIGHT
BEGIN:STANDARD
TZOFFSETFROM:-0600
TZOFFSETTO:-0700
TZNAME:MST
DTSTART:20251102T080000
END:STANDARD
END:VTIMEZONE
BEGIN:VEVENT
DTSTART;VALUE=DATE:20250203
DTEND;VALUE=DATE:20250601
DTSTAMP:20260419T070456
CREATED:20250203T182906Z
LAST-MODIFIED:20250410T170838Z
UID:10010329-1738540800-1748735999@www.artlabfortcollins.org
SUMMARY:Art Lab Farewell
DESCRIPTION:Join us for a Farewell Party and Closing Reception\nMay 29\, 2025  |   5 to 9pm \nRead all about the event here.\n… \nCelebrating a decade and a half of uplifting the creative community.\n\n\n\n\n\n\n\n\n\n\n\n\n\n\n\n\n\n\n\n\n\n\n\n\n\n\n\n\nAfter nearly 16 years of supporting local artists\, Art Lab Fort Collins will close its doors on May 31\, 2025. We’re celebrating this incredible journey with a final exhibition\, open house\, and the chance to book events before we close—don’t miss out on these last opportunities to be part of the Art Lab community! \nartlabfortcollins.org/closing/ \n 
URL:https://www.artlabfortcollins.org/event/art-lab-farewell/
LOCATION:Art Lab Fort Collins\, 239 Linden St\, Fort Collins\, CO\, 80524\, United States
CATEGORIES:Confirmed
ATTACH;FMTTYPE=image/png:https://www.artlabfortcollins.org/wp-content/uploads/2025/02/OHaaLZFq.png
GEO:40.5888474;-105.0748262
X-APPLE-STRUCTURED-LOCATION;VALUE=URI;X-ADDRESS=Art Lab Fort Collins 239 Linden St Fort Collins CO 80524 United States;X-APPLE-RADIUS=500;X-TITLE=239 Linden St:geo:-105.0748262,40.5888474
END:VEVENT
BEGIN:VEVENT
DTSTART;TZID=America/Denver:20250330T100000
DTEND;TZID=America/Denver:20250330T150000
DTSTAMP:20260419T070456
CREATED:20250206T191322Z
LAST-MODIFIED:20250306T233437Z
UID:10010340-1743328800-1743346800@www.artlabfortcollins.org
SUMMARY:Emagined Art & Friendz
DESCRIPTION:Join us for an exciting art installation by Emagined Artwork\, featuring a special selection of works from talented local Fort Collins artists. This exhibit is a celebration of creativity\, showcasing a diverse collection of paintings\, textiles\, and more. The event will take place on Saturday\, March 29th\, from 12 PM to 8 PM\, and continue on Sunday\, March 30th\, from 10 AM to 3 PM. Admission is free. Stop by to explore my latest artwork\, along with incredible pieces from my friends joining me in this showcase. You might even find inspiration for your own creative journey! Artwork will be available for purchase—come support local artists and take home something truly special.
URL:https://www.artlabfortcollins.org/event/pending-then-now-an-emagined-art-exhibit/2025-03-30/
LOCATION:Art Lab Fort Collins\, 239 Linden St\, Fort Collins\, CO\, 80524\, United States
ATTACH;FMTTYPE=image/jpeg:https://www.artlabfortcollins.org/wp-content/uploads/2025/02/0-1.jpg
ORGANIZER;CN="Emma Adams":MAILTO:adamsemmaa@gmail.com
GEO:40.5888474;-105.0748262
X-APPLE-STRUCTURED-LOCATION;VALUE=URI;X-ADDRESS=Art Lab Fort Collins 239 Linden St Fort Collins CO 80524 United States;X-APPLE-RADIUS=500;X-TITLE=239 Linden St:geo:-105.0748262,40.5888474
END:VEVENT
BEGIN:VEVENT
DTSTART;TZID=America/Denver:20250402T190000
DTEND;TZID=America/Denver:20250402T203000
DTSTAMP:20260419T070456
CREATED:20250114T201626Z
LAST-MODIFIED:20250307T000004Z
UID:10009918-1743620400-1743625800@www.artlabfortcollins.org
SUMMARY:Community Sound Bath at the Art Lab
DESCRIPTION:A Sound Bath is a deeply-immersive\, full-body listening experience that intentionally uses sound to invite gentle\, yet powerful\, therapeutic and restorative processes to NURTURE YOUR MIND\,BODY\, and SPIRIT. \nWe begin our time together with a few minutes of intention setting\, self reflection\, and guided breath\, while the remainder of the experience is filled with different sounds and frequencies being introduced in succession. The sounds are created by a variety of overtone-emitting instruments including chimes\, gong\, shruti box\, Quartz crystal singing bowls\, and voice. \nWhen you sink into a Sound Bath and guide your awareness to your listening\, you allow your brain waves to slow\, shifting from a more active state to a deeply relaxed\, dreamlike state. This is the art and practice of deep listening. \nThe sounds introduced during a Sound Bath are an invitation into a deeper state of consciousness\, an opportunity to unplug from external stimuli and to gain perspective on what’s going on within you. The goal of the experience is to invite deep rest and relaxation\, and explore self-inquiry and self-discovery. Upcoming Sound Baths: All Sound Baths are held at the Art Lab on the first Wednesday of every month. All are free to attend and open to the community. \nWe do have a capacity of 40\, so please be sure to register in advance at https://cosmicheartarts.com/pages/sound-baths. \nUpcoming Sound Baths:\nAll Sound Baths are held at the Art Lab on the first Wednesday of every month. All are free to attend and open to the community. We do have a capacity of 40\, so please be sure to register in advance at https://cosmicheartarts.com/pages/sound-baths
URL:https://www.artlabfortcollins.org/event/community-sound-bath-at-the-art-lab/2025-04-02/
LOCATION:Art Lab Fort Collins\, 239 Linden St\, Fort Collins\, CO\, 80524\, United States
ATTACH;FMTTYPE=image/png:https://www.artlabfortcollins.org/wp-content/uploads/2025/01/FOR-SOCIAL-MEDIA-Cosmic-Heart-Arts-Lauren-Smith.png
GEO:40.5888474;-105.0748262
X-APPLE-STRUCTURED-LOCATION;VALUE=URI;X-ADDRESS=Art Lab Fort Collins 239 Linden St Fort Collins CO 80524 United States;X-APPLE-RADIUS=500;X-TITLE=239 Linden St:geo:-105.0748262,40.5888474
END:VEVENT
BEGIN:VEVENT
DTSTART;TZID=America/Denver:20250404T153000
DTEND;TZID=America/Denver:20250404T200000
DTSTAMP:20260419T070456
CREATED:20250117T182310Z
LAST-MODIFIED:20250330T195927Z
UID:10010303-1743780600-1743796800@www.artlabfortcollins.org
SUMMARY:All things Fiber
DESCRIPTION:All things Fiber! Come celebrate the world of fiber with us. Sarah of Purple Turtle Tie Dyes will have a variety of ice dyes\, batiks\, and macrame pieces. Kassi the Weaving Wook will have her line of Crochet Designs.
URL:https://www.artlabfortcollins.org/event/all-things-fiber/2025-04-04/
LOCATION:Art Lab Fort Collins\, 239 Linden St\, Fort Collins\, CO\, 80524\, United States
ATTACH;FMTTYPE=image/jpeg:https://www.artlabfortcollins.org/wp-content/uploads/2025/01/unnamed-1.jpg
ORGANIZER;CN="Sarah Dembkowski":MAILTO:purpleturtletiedyes@gmail.com
GEO:40.5888474;-105.0748262
X-APPLE-STRUCTURED-LOCATION;VALUE=URI;X-ADDRESS=Art Lab Fort Collins 239 Linden St Fort Collins CO 80524 United States;X-APPLE-RADIUS=500;X-TITLE=239 Linden St:geo:-105.0748262,40.5888474
END:VEVENT
BEGIN:VEVENT
DTSTART;TZID=America/Denver:20250405T103000
DTEND;TZID=America/Denver:20250405T160000
DTSTAMP:20260419T070456
CREATED:20250117T182310Z
LAST-MODIFIED:20250330T195927Z
UID:10010304-1743849000-1743868800@www.artlabfortcollins.org
SUMMARY:All things Fiber
DESCRIPTION:All things Fiber! Come celebrate the world of fiber with us. Sarah of Purple Turtle Tie Dyes will have a variety of ice dyes\, batiks\, and macrame pieces. Kassi the Weaving Wook will have her line of Crochet Designs.
URL:https://www.artlabfortcollins.org/event/all-things-fiber/2025-04-05/
LOCATION:Art Lab Fort Collins\, 239 Linden St\, Fort Collins\, CO\, 80524\, United States
ATTACH;FMTTYPE=image/jpeg:https://www.artlabfortcollins.org/wp-content/uploads/2025/01/unnamed-1.jpg
ORGANIZER;CN="Sarah Dembkowski":MAILTO:purpleturtletiedyes@gmail.com
GEO:40.5888474;-105.0748262
X-APPLE-STRUCTURED-LOCATION;VALUE=URI;X-ADDRESS=Art Lab Fort Collins 239 Linden St Fort Collins CO 80524 United States;X-APPLE-RADIUS=500;X-TITLE=239 Linden St:geo:-105.0748262,40.5888474
END:VEVENT
END:VCALENDAR