BEGIN:VCALENDAR
VERSION:2.0
PRODID:-//Art Lab Fort Collins - ECPv6.9.1//NONSGML v1.0//EN
CALSCALE:GREGORIAN
METHOD:PUBLISH
X-WR-CALNAME:Art Lab Fort Collins
X-ORIGINAL-URL:https://www.artlabfortcollins.org
X-WR-CALDESC:Events for Art Lab Fort Collins
REFRESH-INTERVAL;VALUE=DURATION:PT1H
X-Robots-Tag:noindex
X-PUBLISHED-TTL:PT1H
BEGIN:VTIMEZONE
TZID:America/Denver
BEGIN:DAYLIGHT
TZOFFSETFROM:-0700
TZOFFSETTO:-0600
TZNAME:MDT
DTSTART:20250309T090000
END:DAYLIGHT
BEGIN:STANDARD
TZOFFSETFROM:-0600
TZOFFSETTO:-0700
TZNAME:MST
DTSTART:20251102T080000
END:STANDARD
END:VTIMEZONE
BEGIN:VEVENT
DTSTART;VALUE=DATE:20250203
DTEND;VALUE=DATE:20250601
DTSTAMP:20260422T102010
CREATED:20250203T182906Z
LAST-MODIFIED:20250410T170838Z
UID:10010329-1738540800-1748735999@www.artlabfortcollins.org
SUMMARY:Art Lab Farewell
DESCRIPTION:Join us for a Farewell Party and Closing Reception\nMay 29\, 2025  |   5 to 9pm \nRead all about the event here.\n… \nCelebrating a decade and a half of uplifting the creative community.\n\n\n\n\n\n\n\n\n\n\n\n\n\n\n\n\n\n\n\n\n\n\n\n\n\n\n\n\nAfter nearly 16 years of supporting local artists\, Art Lab Fort Collins will close its doors on May 31\, 2025. We’re celebrating this incredible journey with a final exhibition\, open house\, and the chance to book events before we close—don’t miss out on these last opportunities to be part of the Art Lab community! \nartlabfortcollins.org/closing/ \n 
URL:https://www.artlabfortcollins.org/event/art-lab-farewell/
LOCATION:Art Lab Fort Collins\, 239 Linden St\, Fort Collins\, CO\, 80524\, United States
CATEGORIES:Confirmed
ATTACH;FMTTYPE=image/png:https://www.artlabfortcollins.org/wp-content/uploads/2025/02/OHaaLZFq.png
GEO:40.5888474;-105.0748262
X-APPLE-STRUCTURED-LOCATION;VALUE=URI;X-ADDRESS=Art Lab Fort Collins 239 Linden St Fort Collins CO 80524 United States;X-APPLE-RADIUS=500;X-TITLE=239 Linden St:geo:-105.0748262,40.5888474
END:VEVENT
BEGIN:VEVENT
DTSTART;TZID=America/Denver:20250420T080000
DTEND;TZID=America/Denver:20250420T170000
DTSTAMP:20260422T102010
CREATED:20250109T235823Z
LAST-MODIFIED:20250109T235823Z
UID:10009909-1745136000-1745168400@www.artlabfortcollins.org
SUMMARY:FoCoMx setup and teardown
DESCRIPTION:
URL:https://www.artlabfortcollins.org/event/focomx-setup-and-teardown/2025-04-20/
LOCATION:Art Lab Fort Collins\, 239 Linden St\, Fort Collins\, CO\, 80524\, United States
CATEGORIES:Set Up and Tear Down
GEO:40.5888474;-105.0748262
X-APPLE-STRUCTURED-LOCATION;VALUE=URI;X-ADDRESS=Art Lab Fort Collins 239 Linden St Fort Collins CO 80524 United States;X-APPLE-RADIUS=500;X-TITLE=239 Linden St:geo:-105.0748262,40.5888474
END:VEVENT
BEGIN:VEVENT
DTSTART;TZID=America/Denver:20250420T130000
DTEND;TZID=America/Denver:20250420T150000
DTSTAMP:20260422T102010
CREATED:20250109T230851Z
LAST-MODIFIED:20250114T150825Z
UID:10009522-1745154000-1745161200@www.artlabfortcollins.org
SUMMARY:Always Be Creating - Art Play Date :: Third Sundays
DESCRIPTION:ABC Crafternoons – third sunday of each month through May\nArt Play Dates are a time for us to get together and work in community with our fellow artists and crafters. You bring your project to work on and we’ll all hang out and chat! \nEvent registration: Meetup \nFacebook Event \nIG: alwaysbecreatingfc \n 
URL:https://www.artlabfortcollins.org/event/always-be-creating-art-play-date/2025-04-20/
LOCATION:Art Lab Fort Collins\, 239 Linden St\, Fort Collins\, CO\, 80524\, United States
CATEGORIES:Workshops
ATTACH;FMTTYPE=image/jpeg:https://www.artlabfortcollins.org/wp-content/uploads/2025/01/ABC-Reboot-Crafternoons-ArtLab-Tracey-Kazimir-Cree_LR.jpg
ORGANIZER;CN="Tracey Kazimir-Cree":MAILTO:alwaysbecreatingfc@gmail.com
GEO:40.5888474;-105.0748262
X-APPLE-STRUCTURED-LOCATION;VALUE=URI;X-ADDRESS=Art Lab Fort Collins 239 Linden St Fort Collins CO 80524 United States;X-APPLE-RADIUS=500;X-TITLE=239 Linden St:geo:-105.0748262,40.5888474
END:VEVENT
BEGIN:VEVENT
DTSTART;TZID=America/Denver:20250424T160000
DTEND;TZID=America/Denver:20250424T233000
DTSTAMP:20260422T102010
CREATED:20250131T042623Z
LAST-MODIFIED:20250307T231358Z
UID:10010327-1745510400-1745537400@www.artlabfortcollins.org
SUMMARY:Expanding Into Space Set-Up and Tear Down
DESCRIPTION:
URL:https://www.artlabfortcollins.org/event/pending-expanding-into-space-set-up-and-tear-down/2025-04-24/
LOCATION:Art Lab Fort Collins\, 239 Linden St\, Fort Collins\, CO\, 80524\, United States
CATEGORIES:Set Up and Tear Down
ATTACH;FMTTYPE=image/webp:https://www.artlabfortcollins.org/wp-content/uploads/2025/01/ArtLab_SetUpTearDown_Graphic_1a-01.webp
ORGANIZER;CN="Justin Carney":MAILTO:j.carney@colostate.edu
GEO:40.5888474;-105.0748262
X-APPLE-STRUCTURED-LOCATION;VALUE=URI;X-ADDRESS=Art Lab Fort Collins 239 Linden St Fort Collins CO 80524 United States;X-APPLE-RADIUS=500;X-TITLE=239 Linden St:geo:-105.0748262,40.5888474
END:VEVENT
BEGIN:VEVENT
DTSTART;TZID=America/Denver:20250425T170000
DTEND;TZID=America/Denver:20250425T200000
DTSTAMP:20260422T102010
CREATED:20250131T041615Z
LAST-MODIFIED:20250215T010220Z
UID:10010324-1745600400-1745611200@www.artlabfortcollins.org
SUMMARY:Expanding Into Space
DESCRIPTION:Students from CSU’s Photo Image-Making III course take photography to a whole new level in this exhibition. The one steady and fast rule when you visit a gallery or museum is DO NOT TOUCH THE ARTWORK! DO NOT TOUCH THE GLASS! DO NOT CLIMB OR SIT! You have to be cautious and keep a distance from the art. This exhibition throws those rules to the wind. Expanding Into Space expands how photographs can be interacted with\, how they can transport us or distance us from somewhere or something\, how we can move around and through photographs\, and where photographs can exist\, and how they can make or transform a space. Expanding Into Space uses photography in an interdisciplinary mode of making to challenge preconceptions of what a photograph and photography is and can be\, its material qualities\, and the power of the image. The included work goes beyond the simple photographic print\, and moves into sculpture\, installation\, mixed media\, and more. Students are grappling with the questions: What is a photograph and what is photography? How does photography\, seen or unseen\, affect us in our daily lives? How does one embody a photograph and project their ideas and thoughts onto an image? How does a photograph embody us and project it’s ideas and thoughts onto us? What power does photography hold and how can we harness that power? Included artists are Fey Brundige\, Keegan Casey\, Matt Cicero\, Emily Congdon\, Trinity Corney\, Macie Jungmann\, Jessica Pettingill\, Hannah Redmon\, and Gibson Sisson. \n  \nApril 25\, 5-8pm; April 26\, 12-8pm; April 27\, 12-5pm \nj.carney@colostate.edu
URL:https://www.artlabfortcollins.org/event/pending-expanding-into-space/2025-04-25/
LOCATION:Art Lab Fort Collins\, 239 Linden St\, Fort Collins\, CO\, 80524\, United States
ATTACH;FMTTYPE=image/jpeg:https://www.artlabfortcollins.org/wp-content/uploads/2025/01/ExpandingIntoSpace_SocialMediaPost-Justin-Carney.jpg
ORGANIZER;CN="Justin Carney":MAILTO:j.carney@colostate.edu
GEO:40.5888474;-105.0748262
X-APPLE-STRUCTURED-LOCATION;VALUE=URI;X-ADDRESS=Art Lab Fort Collins 239 Linden St Fort Collins CO 80524 United States;X-APPLE-RADIUS=500;X-TITLE=239 Linden St:geo:-105.0748262,40.5888474
END:VEVENT
BEGIN:VEVENT
DTSTART;TZID=America/Denver:20250426T120000
DTEND;TZID=America/Denver:20250426T200000
DTSTAMP:20260422T102010
CREATED:20250131T041615Z
LAST-MODIFIED:20250215T010220Z
UID:10010325-1745668800-1745697600@www.artlabfortcollins.org
SUMMARY:Expanding Into Space
DESCRIPTION:Students from CSU’s Photo Image-Making III course take photography to a whole new level in this exhibition. The one steady and fast rule when you visit a gallery or museum is DO NOT TOUCH THE ARTWORK! DO NOT TOUCH THE GLASS! DO NOT CLIMB OR SIT! You have to be cautious and keep a distance from the art. This exhibition throws those rules to the wind. Expanding Into Space expands how photographs can be interacted with\, how they can transport us or distance us from somewhere or something\, how we can move around and through photographs\, and where photographs can exist\, and how they can make or transform a space. Expanding Into Space uses photography in an interdisciplinary mode of making to challenge preconceptions of what a photograph and photography is and can be\, its material qualities\, and the power of the image. The included work goes beyond the simple photographic print\, and moves into sculpture\, installation\, mixed media\, and more. Students are grappling with the questions: What is a photograph and what is photography? How does photography\, seen or unseen\, affect us in our daily lives? How does one embody a photograph and project their ideas and thoughts onto an image? How does a photograph embody us and project it’s ideas and thoughts onto us? What power does photography hold and how can we harness that power? Included artists are Fey Brundige\, Keegan Casey\, Matt Cicero\, Emily Congdon\, Trinity Corney\, Macie Jungmann\, Jessica Pettingill\, Hannah Redmon\, and Gibson Sisson. \n  \nApril 25\, 5-8pm; April 26\, 12-8pm; April 27\, 12-5pm \nj.carney@colostate.edu
URL:https://www.artlabfortcollins.org/event/pending-expanding-into-space/2025-04-26/
LOCATION:Art Lab Fort Collins\, 239 Linden St\, Fort Collins\, CO\, 80524\, United States
ATTACH;FMTTYPE=image/jpeg:https://www.artlabfortcollins.org/wp-content/uploads/2025/01/ExpandingIntoSpace_SocialMediaPost-Justin-Carney.jpg
ORGANIZER;CN="Justin Carney":MAILTO:j.carney@colostate.edu
GEO:40.5888474;-105.0748262
X-APPLE-STRUCTURED-LOCATION;VALUE=URI;X-ADDRESS=Art Lab Fort Collins 239 Linden St Fort Collins CO 80524 United States;X-APPLE-RADIUS=500;X-TITLE=239 Linden St:geo:-105.0748262,40.5888474
END:VEVENT
END:VCALENDAR